BEGIN:VCALENDAR
VERSION:2.0
PRODID:-//Bienenzuchtverein Roßdorf und Umgebung e.V. - ECPv6.15.20//NONSGML v1.0//EN
CALSCALE:GREGORIAN
METHOD:PUBLISH
X-ORIGINAL-URL:https://bzv-rossdorf.de
X-WR-CALDESC:Veranstaltungen für Bienenzuchtverein Roßdorf und Umgebung e.V.
REFRESH-INTERVAL;VALUE=DURATION:PT1H
X-Robots-Tag:noindex
X-PUBLISHED-TTL:PT1H
BEGIN:VTIMEZONE
TZID:Europe/Berlin
BEGIN:DAYLIGHT
TZOFFSETFROM:+0100
TZOFFSETTO:+0200
TZNAME:CEST
DTSTART:20250330T010000
END:DAYLIGHT
BEGIN:STANDARD
TZOFFSETFROM:+0200
TZOFFSETTO:+0100
TZNAME:CET
DTSTART:20251026T010000
END:STANDARD
BEGIN:DAYLIGHT
TZOFFSETFROM:+0100
TZOFFSETTO:+0200
TZNAME:CEST
DTSTART:20260329T010000
END:DAYLIGHT
BEGIN:STANDARD
TZOFFSETFROM:+0200
TZOFFSETTO:+0100
TZNAME:CET
DTSTART:20261025T010000
END:STANDARD
BEGIN:DAYLIGHT
TZOFFSETFROM:+0100
TZOFFSETTO:+0200
TZNAME:CEST
DTSTART:20270328T010000
END:DAYLIGHT
BEGIN:STANDARD
TZOFFSETFROM:+0200
TZOFFSETTO:+0100
TZNAME:CET
DTSTART:20271031T010000
END:STANDARD
END:VTIMEZONE
BEGIN:VEVENT
DTSTART;TZID=Europe/Berlin:20260224T190000
DTEND;TZID=Europe/Berlin:20260224T210000
DTSTAMP:20260420T105808
CREATED:20241201T210525Z
LAST-MODIFIED:20260312T081819Z
UID:4505-1771959600-1771966800@bzv-rossdorf.de
SUMMARY:Imker-Gesprächsrunde
DESCRIPTION:Bei den monatlichen Gesprächsrunden in unserem Lehrbienenstand findet die Monatsbetrachtung statt und jeder bekommt seine Fragen von erfahrenen Imkern beantwortet. \n\n\n\n\n\n\n\n\n\n\n\n\n\n 
URL:https://bzv-rossdorf.de/veranstaltung/imker-gespraechsrunden-41/
LOCATION:Bienenzuchtverein-Roßdorf und Umgebung e.V.\, Am Hasenböhl 98\, Roßdorf\, Hessen\, 64380\, Deutschland
CATEGORIES:Imker
END:VEVENT
BEGIN:VEVENT
DTSTART;TZID=Europe/Berlin:20260224T190000
DTEND;TZID=Europe/Berlin:20260224T213000
DTSTAMP:20260420T105808
CREATED:20260217T121650Z
LAST-MODIFIED:20260217T121809Z
UID:5440-1771959600-1771968600@bzv-rossdorf.de
SUMMARY:Kreisimkerverein Jahreshauptversammlung
DESCRIPTION:  \n\n\n\n  \n\n\n\n\n\n\n\n\n\n\n\n\n\n 
URL:https://bzv-rossdorf.de/veranstaltung/kreisimkerverein-jahreshauptversammlung/
LOCATION:Restaurant TuS Griesheim\,\, Jahnstraße 20\, Griesheim\, 64347
CATEGORIES:Extern,Kreisimker
END:VEVENT
END:VCALENDAR