BEGIN:VCALENDAR
VERSION:2.0
PRODID:-//Bienenzuchtverein Roßdorf und Umgebung e.V. - ECPv6.15.20//NONSGML v1.0//EN
CALSCALE:GREGORIAN
METHOD:PUBLISH
X-WR-CALNAME:Bienenzuchtverein Roßdorf und Umgebung e.V.
X-ORIGINAL-URL:https://bzv-rossdorf.de
X-WR-CALDESC:Veranstaltungen für Bienenzuchtverein Roßdorf und Umgebung e.V.
REFRESH-INTERVAL;VALUE=DURATION:PT1H
X-Robots-Tag:noindex
X-PUBLISHED-TTL:PT1H
BEGIN:VTIMEZONE
TZID:Europe/Berlin
BEGIN:DAYLIGHT
TZOFFSETFROM:+0100
TZOFFSETTO:+0200
TZNAME:CEST
DTSTART:20250330T010000
END:DAYLIGHT
BEGIN:STANDARD
TZOFFSETFROM:+0200
TZOFFSETTO:+0100
TZNAME:CET
DTSTART:20251026T010000
END:STANDARD
BEGIN:DAYLIGHT
TZOFFSETFROM:+0100
TZOFFSETTO:+0200
TZNAME:CEST
DTSTART:20260329T010000
END:DAYLIGHT
BEGIN:STANDARD
TZOFFSETFROM:+0200
TZOFFSETTO:+0100
TZNAME:CET
DTSTART:20261025T010000
END:STANDARD
BEGIN:DAYLIGHT
TZOFFSETFROM:+0100
TZOFFSETTO:+0200
TZNAME:CEST
DTSTART:20270328T010000
END:DAYLIGHT
BEGIN:STANDARD
TZOFFSETFROM:+0200
TZOFFSETTO:+0100
TZNAME:CET
DTSTART:20271031T010000
END:STANDARD
END:VTIMEZONE
BEGIN:VEVENT
DTSTART;TZID=Europe/Berlin:20260420T140000
DTEND;TZID=Europe/Berlin:20260420T160000
DTSTAMP:20260420T060429
CREATED:20250916T171952Z
LAST-MODIFIED:20250916T171952Z
UID:5150-1776693600-1776700800@bzv-rossdorf.de
SUMMARY:Führung für Seniorinnen und Senioren
DESCRIPTION:
URL:https://bzv-rossdorf.de/veranstaltung/fuehrung-fuer-seniorinnen-und-senioren/
LOCATION:Bienenzuchtverein-Roßdorf und Umgebung e.V.\, Am Hasenböhl 98\, Roßdorf\, Hessen\, 64380\, Deutschland
CATEGORIES:Verein
END:VEVENT
END:VCALENDAR