BEGIN:VCALENDAR
VERSION:2.0
PRODID:-//Bienenzuchtverein Roßdorf und Umgebung e.V. - ECPv6.15.20//NONSGML v1.0//EN
CALSCALE:GREGORIAN
METHOD:PUBLISH
X-WR-CALNAME:Bienenzuchtverein Roßdorf und Umgebung e.V.
X-ORIGINAL-URL:https://bzv-rossdorf.de
X-WR-CALDESC:Veranstaltungen für Bienenzuchtverein Roßdorf und Umgebung e.V.
REFRESH-INTERVAL;VALUE=DURATION:PT1H
X-Robots-Tag:noindex
X-PUBLISHED-TTL:PT1H
BEGIN:VTIMEZONE
TZID:Europe/Berlin
BEGIN:DAYLIGHT
TZOFFSETFROM:+0100
TZOFFSETTO:+0200
TZNAME:CEST
DTSTART:20250330T010000
END:DAYLIGHT
BEGIN:STANDARD
TZOFFSETFROM:+0200
TZOFFSETTO:+0100
TZNAME:CET
DTSTART:20251026T010000
END:STANDARD
BEGIN:DAYLIGHT
TZOFFSETFROM:+0100
TZOFFSETTO:+0200
TZNAME:CEST
DTSTART:20260329T010000
END:DAYLIGHT
BEGIN:STANDARD
TZOFFSETFROM:+0200
TZOFFSETTO:+0100
TZNAME:CET
DTSTART:20261025T010000
END:STANDARD
BEGIN:DAYLIGHT
TZOFFSETFROM:+0100
TZOFFSETTO:+0200
TZNAME:CEST
DTSTART:20270328T010000
END:DAYLIGHT
BEGIN:STANDARD
TZOFFSETFROM:+0200
TZOFFSETTO:+0100
TZNAME:CET
DTSTART:20271031T010000
END:STANDARD
END:VTIMEZONE
BEGIN:VEVENT
DTSTART;VALUE=DATE:20260101
DTEND;VALUE=DATE:20260102
DTSTAMP:20260421T120934
CREATED:20250829T065743Z
LAST-MODIFIED:20250829T065743Z
UID:5099-1767225600-1767311999@bzv-rossdorf.de
SUMMARY:Feiertag
DESCRIPTION:
URL:https://bzv-rossdorf.de/veranstaltung/feiertag/
END:VEVENT
BEGIN:VEVENT
DTSTART;TZID=Europe/Berlin:20260114T190000
DTEND;TZID=Europe/Berlin:20260114T210000
DTSTAMP:20260421T120934
CREATED:20241201T205312Z
LAST-MODIFIED:20260312T081856Z
UID:4479-1768417200-1768424400@bzv-rossdorf.de
SUMMARY:Neuimker-Gesprächsrunde
DESCRIPTION:Bei den monatlichen Gesprächsrunden in unserem Lehrbienenstand findet die Monatsbetrachtung statt und jeder bekommt seine Fragen von erfahrenen Imkern beantwortet. \n\n\n\n\n\n\n\n\n\n\n\n\n\n 
URL:https://bzv-rossdorf.de/veranstaltung/neuimker-gespraechsrunden-40/
LOCATION:Bienenzuchtverein-Roßdorf und Umgebung e.V.\, Am Hasenböhl 98\, Roßdorf\, Hessen\, 64380\, Deutschland
CATEGORIES:Jung- und Neuimker
END:VEVENT
BEGIN:VEVENT
DTSTART;TZID=Europe/Berlin:20260115T200000
DTEND;TZID=Europe/Berlin:20260115T213000
DTSTAMP:20260421T120934
CREATED:20250515T095427Z
LAST-MODIFIED:20251112T091226Z
UID:4832-1768507200-1768512600@bzv-rossdorf.de
SUMMARY:Vorstandssitzung - Net Meeting
DESCRIPTION:
URL:https://bzv-rossdorf.de/veranstaltung/vorstandssitzung-net-meeting-1-5/
LOCATION:Net-Meeting
CATEGORIES:Verein
END:VEVENT
BEGIN:VEVENT
DTSTART;TZID=Europe/Berlin:20260117T100000
DTEND;TZID=Europe/Berlin:20260117T130000
DTSTAMP:20260421T120934
CREATED:20260114T214504Z
LAST-MODIFIED:20260114T214504Z
UID:5298-1768644000-1768654800@bzv-rossdorf.de
SUMMARY:Bäume pflanzen
DESCRIPTION:  \n\n\n\n\n\n\n\n\n\n\n\n\n\n 
URL:https://bzv-rossdorf.de/veranstaltung/baeume-pflanzen/
LOCATION:Bienenzuchtverein-Roßdorf und Umgebung e.V.\, Am Hasenböhl 98\, Roßdorf\, Hessen\, 64380\, Deutschland
CATEGORIES:Praxisgruppe
END:VEVENT
BEGIN:VEVENT
DTSTART;TZID=Europe/Berlin:20260122T190000
DTEND;TZID=Europe/Berlin:20260122T210000
DTSTAMP:20260421T120934
CREATED:20241201T210338Z
LAST-MODIFIED:20260312T081811Z
UID:4493-1769108400-1769115600@bzv-rossdorf.de
SUMMARY:Imker-Gesprächsrunde
DESCRIPTION:Bei den monatlichen Gesprächsrunden in unserem Lehrbienenstand findet die Monatsbetrachtung statt und jeder bekommt seine Fragen von erfahrenen Imkern beantwortet. \n\n\n\n\n\n\n\n\n\n\n\n\n\n 
URL:https://bzv-rossdorf.de/veranstaltung/imker-gespraechsrunden-40/
LOCATION:Bienenzuchtverein-Roßdorf und Umgebung e.V.\, Am Hasenböhl 98\, Roßdorf\, Hessen\, 64380\, Deutschland
CATEGORIES:Imker
END:VEVENT
BEGIN:VEVENT
DTSTART;TZID=Europe/Berlin:20260124T090000
DTEND;TZID=Europe/Berlin:20260125T170000
DTSTAMP:20260421T120934
CREATED:20250829T065110Z
LAST-MODIFIED:20250829T065110Z
UID:5090-1769245200-1769360400@bzv-rossdorf.de
SUMMARY:Landesverband Hessischer Imker e.V.
DESCRIPTION:
URL:https://bzv-rossdorf.de/veranstaltung/landesverband-hessischer-imker-e-v/
LOCATION:Bienenzuchtverein-Roßdorf und Umgebung e.V.\, Am Hasenböhl 98\, Roßdorf\, Hessen\, 64380\, Deutschland
CATEGORIES:Lehrgänge
END:VEVENT
END:VCALENDAR